BEGIN:VCALENDAR
VERSION:2.0
PRODID:-//Peak Crafts - ECPv6.15.17.1//NONSGML v1.0//EN
CALSCALE:GREGORIAN
METHOD:PUBLISH
X-ORIGINAL-URL:https://peakcrafts.co.uk
X-WR-CALDESC:Events for Peak Crafts
REFRESH-INTERVAL;VALUE=DURATION:PT1H
X-Robots-Tag:noindex
X-PUBLISHED-TTL:PT1H
BEGIN:VTIMEZONE
TZID:Europe/London
BEGIN:DAYLIGHT
TZOFFSETFROM:+0000
TZOFFSETTO:+0100
TZNAME:BST
DTSTART:20250330T010000
END:DAYLIGHT
BEGIN:STANDARD
TZOFFSETFROM:+0100
TZOFFSETTO:+0000
TZNAME:GMT
DTSTART:20251026T010000
END:STANDARD
BEGIN:DAYLIGHT
TZOFFSETFROM:+0000
TZOFFSETTO:+0100
TZNAME:BST
DTSTART:20260329T010000
END:DAYLIGHT
BEGIN:STANDARD
TZOFFSETFROM:+0100
TZOFFSETTO:+0000
TZNAME:GMT
DTSTART:20261025T010000
END:STANDARD
BEGIN:DAYLIGHT
TZOFFSETFROM:+0000
TZOFFSETTO:+0100
TZNAME:BST
DTSTART:20270328T010000
END:DAYLIGHT
BEGIN:STANDARD
TZOFFSETFROM:+0100
TZOFFSETTO:+0000
TZNAME:GMT
DTSTART:20271031T010000
END:STANDARD
END:VTIMEZONE
BEGIN:VEVENT
DTSTART;TZID=Europe/London:20260606T100000
DTEND;TZID=Europe/London:20260606T150000
DTSTAMP:20260423T171920
CREATED:20251222T180824Z
LAST-MODIFIED:20251222T180824Z
UID:233-1780740000-1780758000@peakcrafts.co.uk
SUMMARY:Norfolk Square
DESCRIPTION:Come and check out this wonderful outdoor market at Norfolk Square in Glossop\, hosted by High Peak Makers Market
URL:https://peakcrafts.co.uk/event/norfolk-square/
LOCATION:Norfolk Square\, Norfolk Square\, Glossop\, Derbyshire\, SK13 8BP\, United Kingdom
ORGANIZER;CN="High Peak Makers Market":MAILTO:highpeakmakersmarket@gmail.com
END:VEVENT
END:VCALENDAR